BEGIN:VCALENDAR
VERSION:2.0
PRODID:-//T.I.O.S. Terheijden - ECPv4.8.2//NONSGML v1.0//EN
CALSCALE:GREGORIAN
METHOD:PUBLISH
X-WR-CALNAME:T.I.O.S. Terheijden
X-ORIGINAL-URL:http://tios-terheijden.nl
X-WR-CALDESC:Events for T.I.O.S. Terheijden
BEGIN:VEVENT
DTSTART;TZID=UTC+1:20240820T080000
DTEND;TZID=UTC+1:20240820T170000
DTSTAMP:20260422T082314
CREATED:20240524T111803Z
LAST-MODIFIED:20240524T111803Z
UID:923-1724140800-1724173200@tios-terheijden.nl
SUMMARY:Eerste trainingsavond jeugd en senioren
DESCRIPTION:
URL:http://tios-terheijden.nl/event/eerste-trainingsavond-jeugd-en-senioren/
END:VEVENT
END:VCALENDAR