BEGIN:VCALENDAR
VERSION:2.0
PRODID:-//T.I.O.S. Terheijden - ECPv4.8.2//NONSGML v1.0//EN
CALSCALE:GREGORIAN
METHOD:PUBLISH
X-WR-CALNAME:T.I.O.S. Terheijden
X-ORIGINAL-URL:http://tios-terheijden.nl
X-WR-CALDESC:Events for T.I.O.S. Terheijden
BEGIN:VEVENT
DTSTART;TZID=UTC+1:20241126T190000
DTEND;TZID=UTC+1:20241126T200000
DTSTAMP:20260421T224355
CREATED:20241016T143248Z
LAST-MODIFIED:20241016T143248Z
UID:949-1732647600-1732651200@tios-terheijden.nl
SUMMARY:Familie- en vriendentraining jeugd
DESCRIPTION:
URL:http://tios-terheijden.nl/event/familie-en-vriendentraining-jeugd/
END:VEVENT
END:VCALENDAR