BEGIN:VCALENDAR
VERSION:2.0
PRODID:-//T.I.O.S. Terheijden - ECPv4.8.2//NONSGML v1.0//EN
CALSCALE:GREGORIAN
METHOD:PUBLISH
X-WR-CALNAME:T.I.O.S. Terheijden
X-ORIGINAL-URL:http://tios-terheijden.nl
X-WR-CALDESC:Events for T.I.O.S. Terheijden
BEGIN:VEVENT
DTSTART;TZID=UTC+1:20240906T213000
DTEND;TZID=UTC+1:20240906T230000
DTSTAMP:20260422T062145
CREATED:20240712T130817Z
LAST-MODIFIED:20240712T130852Z
UID:932-1725658200-1725663600@tios-terheijden.nl
SUMMARY:Officiële opening seizoen 2024-2025
DESCRIPTION:
URL:http://tios-terheijden.nl/event/officiele-opening-seizoen-2024-2025/
END:VEVENT
END:VCALENDAR