BEGIN:VCALENDAR
VERSION:2.0
PRODID:-//T.I.O.S. Terheijden - ECPv4.8.2//NONSGML v1.0//EN
CALSCALE:GREGORIAN
METHOD:PUBLISH
X-WR-CALNAME:T.I.O.S. Terheijden
X-ORIGINAL-URL:http://tios-terheijden.nl
X-WR-CALDESC:Events for T.I.O.S. Terheijden
BEGIN:VEVENT
DTSTART;TZID=UTC+1:20250223T160000
DTEND;TZID=UTC+1:20250223T193000
DTSTAMP:20260421T210304
CREATED:20250207T105126Z
LAST-MODIFIED:20250207T105126Z
UID:958-1740326400-1740339000@tios-terheijden.nl
SUMMARY:Seniorenuitje
DESCRIPTION:
URL:http://tios-terheijden.nl/event/seniorenuitje-2/
END:VEVENT
END:VCALENDAR