BEGIN:VCALENDAR
VERSION:2.0
PRODID:-//T.I.O.S. Terheijden - ECPv4.8.2//NONSGML v1.0//EN
CALSCALE:GREGORIAN
METHOD:PUBLISH
X-WR-CALNAME:T.I.O.S. Terheijden
X-ORIGINAL-URL:http://tios-terheijden.nl
X-WR-CALDESC:Events for T.I.O.S. Terheijden
BEGIN:VEVENT
DTSTART;TZID=UTC+1:20240503T080000
DTEND;TZID=UTC+1:20240503T170000
DTSTAMP:20260422T142158
CREATED:20240321T152818Z
LAST-MODIFIED:20240321T152818Z
UID:903-1714723200-1714755600@tios-terheijden.nl
SUMMARY:Wél training
DESCRIPTION:
URL:http://tios-terheijden.nl/event/wel-training/
END:VEVENT
END:VCALENDAR